BEGIN:VCALENDAR
VERSION:2.0
PRODID:-//Contratero//ES
CALSCALE:GREGORIAN
METHOD:PUBLISH
BEGIN:VEVENT
UID:SC 37/2024@contratero.es
DTSTAMP:20260424T064655Z
DTSTART:20240416T235959
DTEND:20240417T005959
SUMMARY:Cierre: Suministro para la renovación de licencias de soft
DESCRIPTION:Suministro para la renovación de licencias de software Veeam Backup\\n\\nOrganismo: Alcaldia del Ayuntamiento de San Fernando\\n\\nVer en Contratero: https://contratero.es/contracts/SC 37/2024
URL:https://contratero.es/contracts/SC 37/2024
STATUS:CONFIRMED
BEGIN:VALARM
TRIGGER:-P1D
ACTION:DISPLAY
DESCRIPTION:Recordatorio: Suministro para la renovación 
END:VALARM
END:VEVENT
END:VCALENDAR